Workbook

Sheet Podsumowanie
A1: ILOŚĆ [szt.] | Q1: MASA [kg]
A2: grupa materiałowa opakowania | B2: PAPIER / TEKTURA | E2: TWORZYWO SZTUCZNE | H2: ALUMINIUM | J2: STAL | L2: SZKŁO | N2: DREWNO | O2: POZOSTAŁE | Q2: grupa materiałowa opakowania | R2: PAPIER / TEKTURA | U2: TWORZYWO SZTUCZNE | X2: ALUMINIUM | Z2: STAL | AB2: SZKŁO | AD2: DREWNO | AE2: POZOSTAŁE
A3: miesiąc | B3: Karton mały | C3: Karton średni | D3: Karton duży | E3: Foliopak | F3: Taśma pakowa | G3: Folia strech (rolka) | H3: Puszki | I3: Tacki | J3: Beczki | K3: Opakowania z blachy stalowej | L3: Butelki | M3: Słoiki | N3: Palety, skrzynie itp.. | Q3: miesiąc | R3: Karton mały | S3: Karton średni | T3: Karton duży | U3: Foliopak | V3: Taśma pakowa | W3: Folia strech (rolka) | X3: Puszki | Y3: Tacki | Z3: Beczki | AA3: Opakowania z blachy stalowej | AB3: Butelki | AC3: Słoiki | AD3: Palety, skrzynie itp..
A4: Styczeń | B4: ='1. Styczeń'!D35 -> 0 | C4: ='1. Styczeń'!E35 -> 0 | D4: ='1. Styczeń'!F35 -> 0 | E4: ='1. Styczeń'!G35 -> 0 | F4: ='1. Styczeń'!H35 -> 0 | G4: ='1. Styczeń'!I35 -> 0 | H4: ='1. Styczeń'!J35 -> 0 | I4: ='1. Styczeń'!K35 -> 0 | ... O4: ='1. Styczeń'!Q35 -> 0 | Q4: Styczeń | R4: ='1. Styczeń'!D36 -> 0 | S4: ='1. Styczeń'!E36 -> 0 | T4: ='1. Styczeń'!F36 -> 0 | U4: ='1. Styczeń'!G36 -> 0 | V4: ='1. Styczeń'!H36 -> 0 | W4: ='1. Styczeń'!I36 -> 0 | X4: ='1. Styczeń'!J36 -> 0 | Y4: ='1. Styczeń'!K36 -> 0 | ... AE4: ='1. Styczeń'!Q36 -> 0
A5: Luty | B5: ='2. Luty'!D35 -> 0 | C5: ='2. Luty'!E35 -> 0 | D5: ='2. Luty'!F35 -> 0 | E5: ='2. Luty'!G35 -> 0 | F5: ='2. Luty'!H35 -> 0 | G5: ='2. Luty'!I35 -> 0 | H5: ='2. Luty'!J35 -> 0 | I5: ='2. Luty'!K35 -> 0 | ... O5: ='2. Luty'!Q35 -> 0 | Q5: Luty | R5: ='2. Luty'!D36 -> 0 | S5: ='2. Luty'!E36 -> 0 | T5: ='2. Luty'!F36 -> 0 | U5: ='2. Luty'!G36 -> 0 | V5: ='2. Luty'!H36 -> 0 | W5: ='2. Luty'!I36 -> 0 | X5: ='2. Luty'!J36 -> 0 | Y5: ='2. Luty'!K36 -> 0 | ... AE5: ='2. Luty'!Q36 -> 0
A6: Marzec | B6: ='3. Marzec'!D35 -> 0 | C6: ='3. Marzec'!E35 -> 0 | D6: ='3. Marzec'!F35 -> 0 | E6: ='3. Marzec'!G35 -> 0 | F6: ='3. Marzec'!H35 -> 0 | G6: ='3. Marzec'!I35 -> 0 | H6: ='3. Marzec'!J35 -> 0 | I6: ='3. Marzec'!K35 -> 0 | ... O6: ='3. Marzec'!Q35 -> 0 | Q6: Marzec | R6: ='3. Marzec'!D36 -> 0 | S6: ='3. Marzec'!E36 -> 0 | T6: ='3. Marzec'!F36 -> 0 | U6: ='3. Marzec'!G36 -> 0 | V6: ='3. Marzec'!H36 -> 0 | W6: ='3. Marzec'!I36 -> 0 | X6: ='3. Marzec'!J36 -> 0 | Y6: ='3. Marzec'!K36 -> 0 | ... AE6: ='3. Marzec'!Q36 -> 0
A7: Kwiecień | B7: ='4. Kwiecień'!D35 -> 0 | C7: ='4. Kwiecień'!E35 -> 0 | D7: ='4. Kwiecień'!F35 -> 0 | E7: ='4. Kwiecień'!G35 -> 0 | F7: ='4. Kwiecień'!H35 -> 0 | G7: ='4. Kwiecień'!I35 -> 0 | H7: ='4. Kwiecień'!J35 -> 0 | I7: ='4. Kwiecień'!K35 -> 0 | ... O7: ='4. Kwiecień'!Q35 -> 0 | Q7: Kwiecień | R7: ='4. Kwiecień'!D36 -> 0 | S7: ='4. Kwiecień'!E36 -> 0 | T7: ='4. Kwiecień'!F36 -> 0 | U7: ='4. Kwiecień'!G36 -> 0 | V7: ='4. Kwiecień'!H36 -> 0 | W7: ='4. Kwiecień'!I36 -> 0 | X7: ='4. Kwiecień'!J36 -> 0 | Y7: ='4. Kwiecień'!K36 -> 0 | ... AE7: ='4. Kwiecień'!Q36 -> 0
A8: Maj | B8: ='5. Maj'!D35 -> 0 | C8: ='5. Maj'!E35 -> 0 | D8: ='5. Maj'!F35 -> 0 | E8: ='5. Maj'!G35 -> 0 | F8: ='5. Maj'!H35 -> 0 | G8: ='5. Maj'!I35 -> 0 | H8: ='5. Maj'!J35 -> 0 | I8: ='5. Maj'!K35 -> 0 | ... O8: ='5. Maj'!Q35 -> 0 | Q8: Maj | R8: ='5. Maj'!D36 -> 0 | S8: ='5. Maj'!E36 -> 0 | T8: ='5. Maj'!F36 -> 0 | U8: ='5. Maj'!G36 -> 0 | V8: ='5. Maj'!H36 -> 0 | W8: ='5. Maj'!I36 -> 0 | X8: ='5. Maj'!J36 -> 0 | Y8: ='5. Maj'!K36 -> 0 | ... AE8: ='5. Maj'!Q36 -> 0
A9: Czerwiec | B9: ='6. Czerwiec'!D35 -> 0 | C9: ='6. Czerwiec'!E35 -> 0 | D9: ='6. Czerwiec'!F35 -> 0 | E9: ='6. Czerwiec'!G35 -> 0 | F9: ='6. Czerwiec'!H35 -> 0 | G9: ='6. Czerwiec'!I35 -> 0 | H9: ='6. Czerwiec'!J35 -> 0 | I9: ='6. Czerwiec'!K35 -> 0 | ... O9: ='6. Czerwiec'!Q35 -> 0 | Q9: Czerwiec | R9: ='6. Czerwiec'!D36 -> 0 | S9: ='6. Czerwiec'!E36 -> 0 | T9: ='6. Czerwiec'!F36 -> 0 | U9: ='6. Czerwiec'!G36 -> 0 | V9: ='6. Czerwiec'!H36 -> 0 | W9: ='6. Czerwiec'!I36 -> 0 | X9: ='6. Czerwiec'!J36 -> 0 | Y9: ='6. Czerwiec'!K36 -> 0 | ... AE9: ='6. Czerwiec'!Q36 -> 0
A10: Lipiec | B10: ='7. Lipiec'!D35 -> 0 | C10: ='7. Lipiec'!E35 -> 0 | D10: ='7. Lipiec'!F35 -> 0 | E10: ='7. Lipiec'!G35 -> 0 | F10: ='7. Lipiec'!H35 -> 0 | G10: ='7. Lipiec'!I35 -> 0 | H10: ='7. Lipiec'!J35 -> 0 | I10: ='7. Lipiec'!K35 -> 0 | ... O10: ='7. Lipiec'!Q35 -> 0 | Q10: Lipiec | R10: ='7. Lipiec'!D36 -> 0 | S10: ='7. Lipiec'!E36 -> 0 | T10: ='7. Lipiec'!F36 -> 0 | U10: ='7. Lipiec'!G36 -> 0 | V10: ='7. Lipiec'!H36 -> 0 | W10: ='7. Lipiec'!I36 -> 0 | X10: ='7. Lipiec'!J36 -> 0 | Y10: ='7. Lipiec'!K36 -> 0 | ... AE10: ='7. Lipiec'!Q36 -> 0
A11: Sierpień | B11: ='8. Sierpień'!D35 -> 0 | C11: ='8. Sierpień'!E35 -> 0 | D11: ='8. Sierpień'!F35 -> 0 | E11: ='8. Sierpień'!G35 -> 0 | F11: ='8. Sierpień'!H35 -> 0 | G11: ='8. Sierpień'!I35 -> 0 | H11: ='8. Sierpień'!J35 -> 0 | I11: ='8. Sierpień'!K35 -> 0 | ... O11: ='8. Sierpień'!Q35 -> 0 | Q11: Sierpień | R11: ='8. Sierpień'!D36 -> 0 | S11: ='8. Sierpień'!E36 -> 0 | T11: ='8. Sierpień'!F36 -> 0 | U11: ='8. Sierpień'!G36 -> 0 | V11: ='8. Sierpień'!H36 -> 0 | W11: ='8. Sierpień'!I36 -> 0 | X11: ='8. Sierpień'!J36 -> 0 | Y11: ='8. Sierpień'!K36 -> 0 | ... AE11: ='8. Sierpień'!Q36 -> 0
A12: Wrzesień | B12: ='9. Wrzesień'!D35 -> 0 | C12: ='9. Wrzesień'!E35 -> 0 | D12: ='9. Wrzesień'!F35 -> 0 | E12: ='9. Wrzesień'!G35 -> 0 | F12: ='9. Wrzesień'!H35 -> 0 | G12: ='9. Wrzesień'!I35 -> 0 | H12: ='9. Wrzesień'!J35 -> 0 | I12: ='9. Wrzesień'!K35 -> 0 | ... O12: ='9. Wrzesień'!Q35 -> 0 | Q12: Wrzesień | R12: ='9. Wrzesień'!D36 -> 0 | S12: ='9. Wrzesień'!E36 -> 0 | T12: ='9. Wrzesień'!F36 -> 0 | U12: ='9. Wrzesień'!G36 -> 0 | V12: ='9. Wrzesień'!H36 -> 0 | W12: ='9. Wrzesień'!I36 -> 0 | X12: ='9. Wrzesień'!J36 -> 0 | Y12: ='9. Wrzesień'!K36 -> 0 | ... AE12: ='9. Wrzesień'!Q36 -> 0
A13: Październik | B13: ='10. Październik'!D35 -> 0 | C13: ='10. Październik'!E35 -> 0 | D13: ='10. Październik'!F35 -> 0 | E13: ='10. Październik'!G35 -> 0 | F13: ='10. Październik'!H35 -> 0 | G13: ='10. Październik'!I35 -> 0 | H13: ='10. Październik'!J35 -> 0 | I13: ='10. Październik'!K35 -> 0 | ... O13: ='10. Październik'!Q35 -> 0 | Q13: Październik | R13: ='10. Październik'!D36 -> 0 | S13: ='10. Październik'!E36 -> 0 | T13: ='10. Październik'!F36 -> 0 | U13: ='10. Październik'!G36 -> 0 | V13: ='10. Październik'!H36 -> 0 | W13: ='10. Październik'!I36 -> 0 | X13: ='10. Październik'!J36 -> 0 | Y13: ='10. Październik'!K36 -> 0 | ... AE13: ='10. Październik'!Q36 -> 0
A14: Listopad | B14: ='11. Listopad'!D35 -> 0 | C14: ='11. Listopad'!E35 -> 0 | D14: ='11. Listopad'!F35 -> 0 | E14: ='11. Listopad'!G35 -> 0 | F14: ='11. Listopad'!H35 -> 0 | G14: ='11. Listopad'!I35 -> 0 | H14: ='11. Listopad'!J35 -> 0 | I14: ='11. Listopad'!K35 -> 0 | ... O14: ='11. Listopad'!Q35 -> 0 | Q14: Listopad | R14: ='11. Listopad'!D36 -> 0 | S14: ='11. Listopad'!E36 -> 0 | T14: ='11. Listopad'!F36 -> 0 | U14: ='11. Listopad'!G36 -> 0 | V14: ='11. Listopad'!H36 -> 0 | W14: ='11. Listopad'!I36 -> 0 | X14: ='11. Listopad'!J36 -> 0 | Y14: ='11. Listopad'!K36 -> 0 | ... AE14: ='11. Listopad'!Q36 -> 0
A15: Grudzień | B15: ='12. Grudzień'!D35 -> 0 | C15: ='12. Grudzień'!E35 -> 0 | D15: ='12. Grudzień'!F35 -> 0 | E15: ='12. Grudzień'!G35 -> 0 | F15: ='12. Grudzień'!H35 -> 0 | G15: ='12. Grudzień'!I35 -> 0 | H15: ='12. Grudzień'!J35 -> 0 | I15: ='12. Grudzień'!K35 -> 0 | ... O15: ='12. Grudzień'!Q35 -> 0 | Q15: Grudzień | R15: ='12. Grudzień'!D36 -> 0 | S15: ='12. Grudzień'!E36 -> 0 | T15: ='12. Grudzień'!F36 -> 0 | U15: ='12. Grudzień'!G36 -> 0 | V15: ='12. Grudzień'!H36 -> 0 | W15: ='12. Grudzień'!I36 -> 0 | X15: ='12. Grudzień'!J36 -> 0 | Y15: ='12. Grudzień'!K36 -> 0 | ... AE15: ='12. Grudzień'!Q36 -> 0
A16: Suma: | B16: =SUM(B4:B15) -> 0 | C16: =SUM(C4:C15) -> 0 | D16: =SUM(D4:D15) -> 0 | E16: =SUM(E4:E15) -> 0 | F16: =SUM(F4:F15) -> 0 | G16: =SUM(G4:G15) -> 0 | H16: =SUM(H4:H15) -> 0 | I16: =SUM(I4:I15) -> 0 | ... O16: =SUM(O4:O15) -> 0 | Q16: Suma: | R16: =SUM(R4:R15) -> 0 | S16: =SUM(S4:S15) -> 0 | T16: =SUM(T4:T15) -> 0 | U16: =SUM(U4:U15) -> 0 | V16: =SUM(V4:V15) -> 0 | W16: =SUM(W4:W15) -> 0 | X16: =SUM(X4:X15) -> 0 | Y16: =SUM(Y4:Y15) -> 0 | ... AE16: =SUM(AE4:AE15) -> 0
A17: SUMA: | B17: =ROUNDUP(SUM(B16:D16),1) -> 0 | E17: =ROUNDUP(SUM(E16:G16),1) -> 0 | H17: =ROUNDUP(SUM(H16:I16),1) -> 0 | J17: =ROUNDUP(SUM(J16:K16),1) -> 0 | L17: =ROUNDUP(SUM(L16:M16),1) -> 0 | N17: =ROUNDUP(SUM(N16),1) -> 0 | O17: =ROUNDUP(SUM(O16),1) -> 0 | Q17: SUMA: | R17: =ROUNDUP(SUM(R16:T16),1) -> 0 | U17: =ROUNDUP(SUM(U16:W16),1) -> 0 | X17: =ROUNDUP(SUM(X16:Y16),1) -> 0 | Z17: =ROUNDUP(SUM(Z16:AA16),1) -> 0 | AB17: =ROUNDUP(SUM(AB16:AC16),1) -> 0 | AD17: =ROUNDUP(SUM(AD16),1) -> 0 | AE17: =ROUNDUP(SUM(AE16),1) -> 0

Sheet 1. Styczeń
B1: nr FV zakupowej | C1: Kontrahent | D1: PAPIER / TEKTURA | G1: TWORZYWO SZTUCZNE | J1: ALUMINIUM | L1: STAL | N1: SZKŁO | P1: DREWNO | Q1: POZOSTAŁE
A2: 45658 | D2: Karton mały | E2: Karton średni | F2: Karton duży | G2: Foliopak | H2: Taśma pakowa | I2: Folia strech (rolka) | J2: Puszki | K2: Tacki | L2: Beczki | M2: Opakowania z blachy stalowej | N2: Butelki | O2: Słoiki | P2: Palety, skrzynie itp..
A3: Masa jedn. [kg] L.P. | D3: 0.14 | E3: 0.35 | F3: 0.55 | G3: 0.05 | H3: 0.14 | I3: 2.5
A4: 1
A5: 2
A6: 3
A7: 4
A8: 5
A9: 6
A10: 7
A11: 8
A12: 9
A13: 10
A14: 11
A15: 12
... A34: 31
A35: SUMA ilość | D35: =SUM(D4:D34) -> 0 | E35: =SUM(E4:E34) -> 0 | F35: =SUM(F4:F34) -> 0 | G35: =SUM(G4:G34) -> 0 | H35: =SUM(H4:H34) -> 0 | I35: =SUM(I4:I34) -> 0 | J35: =SUM(J4:J34) -> 0 | K35: =SUM(K4:K34) -> 0 | ... Q35: =SUM(Q4:Q34) -> 0
A36: SUMA masa [kg] | D36: =D3*D35 -> 0 | E36: =E3*E35 -> 0 | F36: =F3*F35 -> 0 | G36: =G3*G35 -> 0 | H36: =H3*H35 -> 0 | I36: =I3*I35 -> 0 | J36: =J3*J35 -> 0 | K36: =K3*K35 -> 0 | ... Q36: =Q3*Q35 -> 0

Sheet 2. Luty
B1: nr FV zakupowej | C1: Kontrahent | D1: PAPIER / TEKTURA | G1: TWORZYWO SZTUCZNE | J1: ALUMINIUM | L1: STAL | N1: SZKŁO | P1: DREWNO | Q1: POZOSTAŁE
A2: 45689 | D2: Karton mały | E2: Karton średni | F2: Karton duży | G2: Foliopak | H2: Taśma pakowa | I2: Folia strech (rolka) | J2: Puszki | K2: Tacki | L2: Beczki | M2: Opakowania z blachy stalowej | N2: Butelki | O2: Słoiki | P2: Palety, skrzynie itp..
A3: Masa jedn. [kg] L.P. | D3: 0.14 | E3: 0.35 | F3: 0.55 | G3: 0.05 | H3: 0.14 | I3: 2.5
A4: 1
A5: 2
A6: 3
A7: 4
A8: 5
A9: 6
A10: 7
A11: 8
A12: 9
A13: 10
A14: 11
A15: 12
... A34: 31
A35: SUMA ilość | D35: =SUM(D4:D34) -> 0 | E35: =SUM(E4:E34) -> 0 | F35: =SUM(F4:F34) -> 0 | G35: =SUM(G4:G34) -> 0 | H35: =SUM(H4:H34) -> 0 | I35: =SUM(I4:I34) -> 0 | J35: =SUM(J4:J34) -> 0 | K35: =SUM(K4:K34) -> 0 | ... Q35: =SUM(Q4:Q34) -> 0
A36: SUMA masa [kg] | D36: =D3*D35 -> 0 | E36: =E3*E35 -> 0 | F36: =F3*F35 -> 0 | G36: =G3*G35 -> 0 | H36: =H3*H35 -> 0 | I36: =I3*I35 -> 0 | J36: =J3*J35 -> 0 | K36: =K3*K35 -> 0 | ... Q36: =Q3*Q35 -> 0

Sheet 3. Marzec
B1: nr FV zakupowej | C1: Kontrahent | D1: PAPIER / TEKTURA | G1: TWORZYWO SZTUCZNE | J1: ALUMINIUM | L1: STAL | N1: SZKŁO | P1: DREWNO | Q1: POZOSTAŁE
A2: 45689 | D2: Karton mały | E2: Karton średni | F2: Karton duży | G2: Foliopak | H2: Taśma pakowa | I2: Folia strech (rolka) | J2: Puszki | K2: Tacki | L2: Beczki | M2: Opakowania z blachy stalowej | N2: Butelki | O2: Słoiki | P2: Palety, skrzynie itp..
A3: Masa jedn. [kg] L.P. | D3: 0.14 | E3: 0.35 | F3: 0.55 | G3: 0.05 | H3: 0.14 | I3: 2.5
A4: 1
A5: 2
A6: 3
A7: 4
A8: 5
A9: 6
A10: 7
A11: 8
A12: 9
A13: 10
A14: 11
A15: 12
... A34: 31
A35: SUMA ilość | D35: =SUM(D4:D34) -> 0 | E35: =SUM(E4:E34) -> 0 | F35: =SUM(F4:F34) -> 0 | G35: =SUM(G4:G34) -> 0 | H35: =SUM(H4:H34) -> 0 | I35: =SUM(I4:I34) -> 0 | J35: =SUM(J4:J34) -> 0 | K35: =SUM(K4:K34) -> 0 | ... Q35: =SUM(Q4:Q34) -> 0
A36: SUMA masa [kg] | D36: =D3*D35 -> 0 | E36: =E3*E35 -> 0 | F36: =F3*F35 -> 0 | G36: =G3*G35 -> 0 | H36: =H3*H35 -> 0 | I36: =I3*I35 -> 0 | J36: =J3*J35 -> 0 | K36: =K3*K35 -> 0 | ... Q36: =Q3*Q35 -> 0

Sheet 4. Kwiecień
B1: nr FV zakupowej | C1: Kontrahent | D1: PAPIER / TEKTURA | G1: TWORZYWO SZTUCZNE | J1: ALUMINIUM | L1: STAL | N1: SZKŁO | P1: DREWNO | Q1: POZOSTAŁE
A2: 45689 | D2: Karton mały | E2: Karton średni | F2: Karton duży | G2: Foliopak | H2: Taśma pakowa | I2: Folia strech (rolka) | J2: Puszki | K2: Tacki | L2: Beczki | M2: Opakowania z blachy stalowej | N2: Butelki | O2: Słoiki | P2: Palety, skrzynie itp..
A3: Masa jedn. [kg] L.P. | D3: 0.14 | E3: 0.35 | F3: 0.55 | G3: 0.05 | H3: 0.14 | I3: 2.5
A4: 1
A5: 2
A6: 3
A7: 4
A8: 5
A9: 6
A10: 7
A11: 8
A12: 9
A13: 10
A14: 11
A15: 12
... A34: 31
A35: SUMA ilość | D35: =SUM(D4:D34) -> 0 | E35: =SUM(E4:E34) -> 0 | F35: =SUM(F4:F34) -> 0 | G35: =SUM(G4:G34) -> 0 | H35: =SUM(H4:H34) -> 0 | I35: =SUM(I4:I34) -> 0 | J35: =SUM(J4:J34) -> 0 | K35: =SUM(K4:K34) -> 0 | ... Q35: =SUM(Q4:Q34) -> 0
A36: SUMA masa [kg] | D36: =D3*D35 -> 0 | E36: =E3*E35 -> 0 | F36: =F3*F35 -> 0 | G36: =G3*G35 -> 0 | H36: =H3*H35 -> 0 | I36: =I3*I35 -> 0 | J36: =J3*J35 -> 0 | K36: =K3*K35 -> 0 | ... Q36: =Q3*Q35 -> 0

Sheet 5. Maj
B1: nr FV zakupowej | C1: Kontrahent | D1: PAPIER / TEKTURA | G1: TWORZYWO SZTUCZNE | J1: ALUMINIUM | L1: STAL | N1: SZKŁO | P1: DREWNO | Q1: POZOSTAŁE
A2: 45689 | D2: Karton mały | E2: Karton średni | F2: Karton duży | G2: Foliopak | H2: Taśma pakowa | I2: Folia strech (rolka) | J2: Puszki | K2: Tacki | L2: Beczki | M2: Opakowania z blachy stalowej | N2: Butelki | O2: Słoiki | P2: Palety, skrzynie itp..
A3: Masa jedn. [kg] L.P. | D3: 0.14 | E3: 0.35 | F3: 0.55 | G3: 0.05 | H3: 0.14 | I3: 2.5
A4: 1
A5: 2
A6: 3
A7: 4
A8: 5
A9: 6
A10: 7
A11: 8
A12: 9
A13: 10
A14: 11
A15: 12
... A34: 31
A35: SUMA ilość | D35: =SUM(D4:D34) -> 0 | E35: =SUM(E4:E34) -> 0 | F35: =SUM(F4:F34) -> 0 | G35: =SUM(G4:G34) -> 0 | H35: =SUM(H4:H34) -> 0 | I35: =SUM(I4:I34) -> 0 | J35: =SUM(J4:J34) -> 0 | K35: =SUM(K4:K34) -> 0 | ... Q35: =SUM(Q4:Q34) -> 0
A36: SUMA masa [kg] | D36: =D3*D35 -> 0 | E36: =E3*E35 -> 0 | F36: =F3*F35 -> 0 | G36: =G3*G35 -> 0 | H36: =H3*H35 -> 0 | I36: =I3*I35 -> 0 | J36: =J3*J35 -> 0 | K36: =K3*K35 -> 0 | ... Q36: =Q3*Q35 -> 0

Sheet 6. Czerwiec
B1: nr FV zakupowej | C1: Kontrahent | D1: PAPIER / TEKTURA | G1: TWORZYWO SZTUCZNE | J1: ALUMINIUM | L1: STAL | N1: SZKŁO | P1: DREWNO | Q1: POZOSTAŁE
A2: 45689 | D2: Karton mały | E2: Karton średni | F2: Karton duży | G2: Foliopak | H2: Taśma pakowa | I2: Folia strech (rolka) | J2: Puszki | K2: Tacki | L2: Beczki | M2: Opakowania z blachy stalowej | N2: Butelki | O2: Słoiki | P2: Palety, skrzynie itp..
A3: Masa jedn. [kg] L.P. | D3: 0.14 | E3: 0.35 | F3: 0.55 | G3: 0.05 | H3: 0.14 | I3: 2.5
A4: 1
A5: 2
A6: 3
A7: 4
A8: 5
A9: 6
A10: 7
A11: 8
A12: 9
A13: 10
A14: 11
A15: 12
... A34: 31
A35: SUMA ilość | D35: =SUM(D4:D34) -> 0 | E35: =SUM(E4:E34) -> 0 | F35: =SUM(F4:F34) -> 0 | G35: =SUM(G4:G34) -> 0 | H35: =SUM(H4:H34) -> 0 | I35: =SUM(I4:I34) -> 0 | J35: =SUM(J4:J34) -> 0 | K35: =SUM(K4:K34) -> 0 | ... Q35: =SUM(Q4:Q34) -> 0
A36: SUMA masa [kg] | D36: =D3*D35 -> 0 | E36: =E3*E35 -> 0 | F36: =F3*F35 -> 0 | G36: =G3*G35 -> 0 | H36: =H3*H35 -> 0 | I36: =I3*I35 -> 0 | J36: =J3*J35 -> 0 | K36: =K3*K35 -> 0 | ... Q36: =Q3*Q35 -> 0

Sheet 7. Lipiec
B1: nr FV zakupowej | C1: Kontrahent | D1: PAPIER / TEKTURA | G1: TWORZYWO SZTUCZNE | J1: ALUMINIUM | L1: STAL | N1: SZKŁO | P1: DREWNO | Q1: POZOSTAŁE
A2: 45689 | D2: Karton mały | E2: Karton średni | F2: Karton duży | G2: Foliopak | H2: Taśma pakowa | I2: Folia strech (rolka) | J2: Puszki | K2: Tacki | L2: Beczki | M2: Opakowania z blachy stalowej | N2: Butelki | O2: Słoiki | P2: Palety, skrzynie itp..
A3: Masa jedn. [kg] L.P. | D3: 0.14 | E3: 0.35 | F3: 0.55 | G3: 0.05 | H3: 0.14 | I3: 2.5
A4: 1
A5: 2
A6: 3
A7: 4
A8: 5
A9: 6
A10: 7
A11: 8
A12: 9
A13: 10
A14: 11
A15: 12
... A34: 31
A35: SUMA ilość | D35: =SUM(D4:D34) -> 0 | E35: =SUM(E4:E34) -> 0 | F35: =SUM(F4:F34) -> 0 | G35: =SUM(G4:G34) -> 0 | H35: =SUM(H4:H34) -> 0 | I35: =SUM(I4:I34) -> 0 | J35: =SUM(J4:J34) -> 0 | K35: =SUM(K4:K34) -> 0 | ... Q35: =SUM(Q4:Q34) -> 0
A36: SUMA masa [kg] | D36: =D3*D35 -> 0 | E36: =E3*E35 -> 0 | F36: =F3*F35 -> 0 | G36: =G3*G35 -> 0 | H36: =H3*H35 -> 0 | I36: =I3*I35 -> 0 | J36: =J3*J35 -> 0 | K36: =K3*K35 -> 0 | ... Q36: =Q3*Q35 -> 0

Sheet 8. Sierpień
B1: nr FV zakupowej | C1: Kontrahent | D1: PAPIER / TEKTURA | G1: TWORZYWO SZTUCZNE | J1: ALUMINIUM | L1: STAL | N1: SZKŁO | P1: DREWNO | Q1: POZOSTAŁE
A2: 45689 | D2: Karton mały | E2: Karton średni | F2: Karton duży | G2: Foliopak | H2: Taśma pakowa | I2: Folia strech (rolka) | J2: Puszki | K2: Tacki | L2: Beczki | M2: Opakowania z blachy stalowej | N2: Butelki | O2: Słoiki | P2: Palety, skrzynie itp..
A3: Masa jedn. [kg] L.P. | D3: 0.14 | E3: 0.35 | F3: 0.55 | G3: 0.05 | H3: 0.14 | I3: 2.5
A4: 1
A5: 2
A6: 3
A7: 4
A8: 5
A9: 6
A10: 7
A11: 8
A12: 9
A13: 10
A14: 11
A15: 12
... A34: 31
A35: SUMA ilość | D35: =SUM(D4:D34) -> 0 | E35: =SUM(E4:E34) -> 0 | F35: =SUM(F4:F34) -> 0 | G35: =SUM(G4:G34) -> 0 | H35: =SUM(H4:H34) -> 0 | I35: =SUM(I4:I34) -> 0 | J35: =SUM(J4:J34) -> 0 | K35: =SUM(K4:K34) -> 0 | ... Q35: =SUM(Q4:Q34) -> 0
A36: SUMA masa [kg] | D36: =D3*D35 -> 0 | E36: =E3*E35 -> 0 | F36: =F3*F35 -> 0 | G36: =G3*G35 -> 0 | H36: =H3*H35 -> 0 | I36: =I3*I35 -> 0 | J36: =J3*J35 -> 0 | K36: =K3*K35 -> 0 | ... Q36: =Q3*Q35 -> 0

Sheet 9. Wrzesień
B1: nr FV zakupowej | C1: Kontrahent | D1: PAPIER / TEKTURA | G1: TWORZYWO SZTUCZNE | J1: ALUMINIUM | L1: STAL | N1: SZKŁO | P1: DREWNO | Q1: POZOSTAŁE
A2: 45689 | D2: Karton mały | E2: Karton średni | F2: Karton duży | G2: Foliopak | H2: Taśma pakowa | I2: Folia strech (rolka) | J2: Puszki | K2: Tacki | L2: Beczki | M2: Opakowania z blachy stalowej | N2: Butelki | O2: Słoiki | P2: Palety, skrzynie itp..
A3: Masa jedn. [kg] L.P. | D3: 0.14 | E3: 0.35 | F3: 0.55 | G3: 0.05 | H3: 0.14 | I3: 2.5
A4: 1
A5: 2
A6: 3
A7: 4
A8: 5
A9: 6
A10: 7
A11: 8
A12: 9
A13: 10
A14: 11
A15: 12
... A34: 31
A35: SUMA ilość | D35: =SUM(D4:D34) -> 0 | E35: =SUM(E4:E34) -> 0 | F35: =SUM(F4:F34) -> 0 | G35: =SUM(G4:G34) -> 0 | H35: =SUM(H4:H34) -> 0 | I35: =SUM(I4:I34) -> 0 | J35: =SUM(J4:J34) -> 0 | K35: =SUM(K4:K34) -> 0 | ... Q35: =SUM(Q4:Q34) -> 0
A36: SUMA masa [kg] | D36: =D3*D35 -> 0 | E36: =E3*E35 -> 0 | F36: =F3*F35 -> 0 | G36: =G3*G35 -> 0 | H36: =H3*H35 -> 0 | I36: =I3*I35 -> 0 | J36: =J3*J35 -> 0 | K36: =K3*K35 -> 0 | ... Q36: =Q3*Q35 -> 0

Sheet 10. Październik
B1: nr FV zakupowej | C1: Kontrahent | D1: PAPIER / TEKTURA | G1: TWORZYWO SZTUCZNE | J1: ALUMINIUM | L1: STAL | N1: SZKŁO | P1: DREWNO | Q1: POZOSTAŁE
A2: 45689 | D2: Karton mały | E2: Karton średni | F2: Karton duży | G2: Foliopak | H2: Taśma pakowa | I2: Folia strech (rolka) | J2: Puszki | K2: Tacki | L2: Beczki | M2: Opakowania z blachy stalowej | N2: Butelki | O2: Słoiki | P2: Palety, skrzynie itp..
A3: Masa jedn. [kg] L.P. | D3: 0.14 | E3: 0.35 | F3: 0.55 | G3: 0.05 | H3: 0.14 | I3: 2.5
A4: 1
A5: 2
A6: 3
A7: 4
A8: 5
A9: 6
A10: 7
A11: 8
A12: 9
A13: 10
A14: 11
A15: 12
... A34: 31
A35: SUMA ilość | D35: =SUM(D4:D34) -> 0 | E35: =SUM(E4:E34) -> 0 | F35: =SUM(F4:F34) -> 0 | G35: =SUM(G4:G34) -> 0 | H35: =SUM(H4:H34) -> 0 | I35: =SUM(I4:I34) -> 0 | J35: =SUM(J4:J34) -> 0 | K35: =SUM(K4:K34) -> 0 | ... Q35: =SUM(Q4:Q34) -> 0
A36: SUMA masa [kg] | D36: =D3*D35 -> 0 | E36: =E3*E35 -> 0 | F36: =F3*F35 -> 0 | G36: =G3*G35 -> 0 | H36: =H3*H35 -> 0 | I36: =I3*I35 -> 0 | J36: =J3*J35 -> 0 | K36: =K3*K35 -> 0 | ... Q36: =Q3*Q35 -> 0

Sheet 11. Listopad
B1: nr FV zakupowej | C1: Kontrahent | D1: PAPIER / TEKTURA | G1: TWORZYWO SZTUCZNE | J1: ALUMINIUM | L1: STAL | N1: SZKŁO | P1: DREWNO | Q1: POZOSTAŁE
A2: 45689 | D2: Karton mały | E2: Karton średni | F2: Karton duży | G2: Foliopak | H2: Taśma pakowa | I2: Folia strech (rolka) | J2: Puszki | K2: Tacki | L2: Beczki | M2: Opakowania z blachy stalowej | N2: Butelki | O2: Słoiki | P2: Palety, skrzynie itp..
A3: Masa jedn. [kg] L.P. | D3: 0.14 | E3: 0.35 | F3: 0.55 | G3: 0.05 | H3: 0.14 | I3: 2.5
A4: 1
A5: 2
A6: 3
A7: 4
A8: 5
A9: 6
A10: 7
A11: 8
A12: 9
A13: 10
A14: 11
A15: 12
... A34: 31
A35: SUMA ilość | D35: =SUM(D4:D34) -> 0 | E35: =SUM(E4:E34) -> 0 | F35: =SUM(F4:F34) -> 0 | G35: =SUM(G4:G34) -> 0 | H35: =SUM(H4:H34) -> 0 | I35: =SUM(I4:I34) -> 0 | J35: =SUM(J4:J34) -> 0 | K35: =SUM(K4:K34) -> 0 | ... Q35: =SUM(Q4:Q34) -> 0
A36: SUMA masa [kg] | D36: =D3*D35 -> 0 | E36: =E3*E35 -> 0 | F36: =F3*F35 -> 0 | G36: =G3*G35 -> 0 | H36: =H3*H35 -> 0 | I36: =I3*I35 -> 0 | J36: =J3*J35 -> 0 | K36: =K3*K35 -> 0 | ... Q36: =Q3*Q35 -> 0

Sheet 12. Grudzień
B1: nr FV zakupowej | C1: Kontrahent | D1: PAPIER / TEKTURA | G1: TWORZYWO SZTUCZNE | J1: ALUMINIUM | L1: STAL | N1: SZKŁO | P1: DREWNO | Q1: POZOSTAŁE
A2: 45689 | D2: Karton mały | E2: Karton średni | F2: Karton duży | G2: Foliopak | H2: Taśma pakowa | I2: Folia strech (rolka) | J2: Puszki | K2: Tacki | L2: Beczki | M2: Opakowania z blachy stalowej | N2: Butelki | O2: Słoiki | P2: Palety, skrzynie itp..
A3: Masa jedn. [kg] L.P. | D3: 0.14 | E3: 0.35 | F3: 0.55 | G3: 0.05 | H3: 0.14 | I3: 2.5
A4: 1
A5: 2
A6: 3
A7: 4
A8: 5
A9: 6
A10: 7
A11: 8
A12: 9
A13: 10
A14: 11
A15: 12
... A34: 31
A35: SUMA ilość | D35: =SUM(D4:D34) -> 0 | E35: =SUM(E4:E34) -> 0 | F35: =SUM(F4:F34) -> 0 | G35: =SUM(G4:G34) -> 0 | H35: =SUM(H4:H34) -> 0 | I35: =SUM(I4:I34) -> 0 | J35: =SUM(J4:J34) -> 0 | K35: =SUM(K4:K34) -> 0 | ... Q35: =SUM(Q4:Q34) -> 0
A36: SUMA masa [kg] | D36: =D3*D35 -> 0 | E36: =E3*E35 -> 0 | F36: =F3*F35 -> 0 | G36: =G3*G35 -> 0 | H36: =H3*H35 -> 0 | I36: =I3*I35 -> 0 | J36: =J3*J35 -> 0 | K36: =K3*K35 -> 0 | ... Q36: =Q3*Q35 -> 0
